BEGIN:VCALENDAR
VERSION:2.0
PRODID:-//Tukios.com/
BEGIN:VEVENT
UID:49b4b430-57a3-4f14-b563-10ac2ba08c4a@www.feddehelfrichcrossfh.com
DTSTAMP:20260421T042026Z
DTSTART:20260424T210000Z
DTEND:20260425T000000Z
SUMMARY:Memorial Visitation
DESCRIPTION:
URL:https://www.feddehelfrichcrossfh.com/obituaries/roger-lattz
LOCATION: 112 W. Main St, PO Box 1048  Peotone IL 60468
GEO:41.3330009;-87.7912202
END:VEVENT
END:VCALENDAR